BEGIN:VCALENDAR
PRODID:-//dvv-bw.de//dvv.Portalplattform//DE
VERSION:2.0
METHOD:PUBLISH
BEGIN:VEVENT
DTSTART:20260626T140000Z
DTEND:20260626T200000Z
DTSTAMP:20260425T225719Z
UID:523254306905-523254306802-1782424800000
SUMMARY:Begegnungsfest Böblingen - von Mensch zu Mensch
LOCATION:Alte TÜV-Halle Böblingen\, Mönchweg 6\, 71032 Böblingen
DESCRIPTION:Wir zeigen\, wie bereichernd eine interkulturelle Gesellschaft sein kann. Bei lockerer und freier Atmosphäre gibt es auf dem Fest die Gelegenheit den Menschen und ihren Kulturen zu begegnen und sich auszutauschen.\nMit Clowns\, Bühnenprogramm\, Live-Musik\, Eiswagen und Bewirtung durch das Bootshaus
CLASS:PUBLIC
X-ALT-DESC;FMTTYPE=text/html:Wir zeigen\, wie bereichernd eine interkulturelle Gesellschaft sein kann. Bei lockerer und freier Atmosphäre gibt es auf dem Fest die Gelegenheit den Menschen und ihren Kulturen zu begegnen und sich auszutauschen.<br>Mit Clowns\, Bühnenprogramm\, Live-Musik\, Eiswagen und Bewirtung durch das Bootshaus
END:VEVENT
END:VCALENDAR
