BEGIN:VCALENDAR
PRODID:-//dvv-bw.de//dvv.Portalplattform//DE
VERSION:2.0
METHOD:PUBLISH
BEGIN:VEVENT
DTSTART:20260612T110000Z
DTEND:20260612T160000Z
DTSTAMP:20260420T050842Z
UID:523252388862-523251715901-1781215200000
SUMMARY:Blutspendeaktion in der Motorworld
LOCATION:Motorworld\, Graf Zeppelin Platz\, 71034 Böblingen
DESCRIPTION:Blutspender helfen Leben zu retten
CLASS:PUBLIC
X-ALT-DESC;FMTTYPE=text/html:Blutspender helfen Leben zu retten
END:VEVENT
END:VCALENDAR
