BEGIN:VCALENDAR
PRODID:-//dvv-bw.de//dvv.Portalplattform//DE
VERSION:2.0
METHOD:PUBLISH
BEGIN:VEVENT
DTSTART:20260806T170000Z
DTEND:20260806T190000Z
DTSTAMP:20260421T020102Z
UID:523254401816-523254401716-1785967200000
SUMMARY:David Lübke - Max Prosa
LOCATION:Alte TÜV-Halle Böblingen\, Mönchweg 6\, 71032 Böblingen
DESCRIPTION:Was einst als kleiner Geheimtipp begann\, hat sich in den vergangenen Jahren zu einem festen Bestandteil des Böblinger Festivalsommers entwickelt. Die besondere Atmosphäre des Festivals – geprägt von Nähe\, Offenheit und musikalischer Vielfalt – macht die Songtage einzigartig. In der intimen Umgebung der Alten TÜV Halle entstehen Momente\, die Künstler*innen und Publikum gleichermaßen verbinden.Auch 2026 dürfen sich Besucher*innen auf ein abwechslungsreiches Programm freuen\, das Originalität und emotionale Tiefe vereint.\nTickets unter Ticketshop - Alle Events
CLASS:PUBLIC
X-ALT-DESC;FMTTYPE=text/html:Was einst als kleiner Geheimtipp begann\, hat sich in den vergangenen Jahren zu einem festen Bestandteil des Böblinger Festivalsommers entwickelt. Die besondere Atmosphäre des Festivals &ndash; geprägt von Nähe\, Offenheit und musikalischer Vielfalt &ndash; macht die Songtage einzigartig. In der intimen Umgebung der Alten TÜV Halle entstehen Momente\, die Künstler*innen und Publikum gleichermaßen verbinden.Auch 2026 dürfen sich Besucher*innen auf ein abwechslungsreiches Programm freuen\, das Originalität und emotionale Tiefe vereint.<br>Tickets unter Ticketshop - Alle Events
END:VEVENT
END:VCALENDAR
