BEGIN:VCALENDAR
PRODID:-//dvv-bw.de//dvv.Portalplattform//DE
VERSION:2.0
METHOD:PUBLISH
BEGIN:VEVENT
DTSTART:20260719T120000Z
DTEND:20260719T150000Z
DTSTAMP:20260420T031722Z
UID:523254401805-523254401705-1784412000000
SUMMARY:Familie geht Tanzen
LOCATION:Alte TÜV-Halle Böblingen\, Mönchweg 6\, 71032 Böblingen
DESCRIPTION:Einlass ab 14 Uhr. Ihr könnt aber auch gern etwas später kommen\, um lange Schlangen zu vermeiden.\nWir empfeheln ab Grundschulater. Aber es gibt keine Altersbeschränkung der Kinder.\nDer Eintritt ist nur in Begleitung von Erwachsenen möglich. \nGehörschutz für kleine Kinder ist trotz gedämpfter Lautstärke trotzdem zu empfehlen.\nTickets unter: Tickets für MAMAGEHTTANZEN Stuttgart | Karten und Infos auf ticket.io
CLASS:PUBLIC
X-ALT-DESC;FMTTYPE=text/html:Einlass ab 14 Uhr. Ihr könnt aber auch gern etwas später kommen\, um lange Schlangen zu vermeiden.<br>Wir empfeheln ab Grundschulater. Aber es gibt keine Altersbeschränkung der Kinder.<br>Der Eintritt ist nur in Begleitung von Erwachsenen möglich. <br>Gehörschutz für kleine Kinder ist trotz gedämpfter Lautstärke trotzdem zu empfehlen.<br>Tickets unter: Tickets für MAMAGEHTTANZEN Stuttgart | Karten und Infos auf ticket.io
END:VEVENT
END:VCALENDAR
