BEGIN:VCALENDAR
PRODID:-//dvv-bw.de//dvv.Portalplattform//DE
VERSION:2.0
METHOD:PUBLISH
BEGIN:VEVENT
DTSTART:20260428T180000Z
DTEND:20260428T200000Z
DTSTAMP:20260424T000912Z
UID:523253746504-523253746404-1777327200000
SUMMARY:Kabarett mit Phillip Weber
DESCRIPTION:Kabarett mit Phillip Weber
CLASS:PUBLIC
X-ALT-DESC;FMTTYPE=text/html:Kabarett mit Phillip Weber
END:VEVENT
END:VCALENDAR
