BEGIN:VCALENDAR
PRODID:-//dvv-bw.de//dvv.Portalplattform//DE
VERSION:2.0
METHOD:PUBLISH
BEGIN:VEVENT
DTSTART:20260605T120000Z
DTEND:20260605T133000Z
DTSTAMP:20260419T183247Z
UID:523252279408-523252279303-1780610400000
SUMMARY:Let`s zock!
LOCATION:Stadtbibliothek Sindelfingen, Rathausplatz 4, 71063 Sindelfingen
DESCRIPTION:Möchtest du einmal die Nintendo Switch-Spielkonsole ausprobieren oder hast du schon Gaming-Erfahrung und einfach Lust eine Runde zu zocken? Dann komm‘ zum Gaming-Treff in die Stadtbibliothek und let’s zock! Es erwarten Euch verschiedene Switch-Spiele\, sodass für jede*n etwas dabei ist.\nFür Kinder und Jugendliche ab 8 Jahren. \nKontakt für Rückfragen und zur Anmeldung: Anmeldung: johanna.minzer@sindelfingen.de oder Tel. 0703194716.
CLASS:PUBLIC
X-ALT-DESC;FMTTYPE=text/html:Möchtest du einmal die Nintendo Switch-Spielkonsole ausprobieren oder hast du schon Gaming-Erfahrung und einfach Lust eine Runde zu zocken? Dann komm&lsquo; zum Gaming-Treff in die Stadtbibliothek und let&rsquo;s zock! Es erwarten Euch verschiedene Switch-Spiele\, sodass für jede*n etwas dabei ist.<br>Für Kinder und Jugendliche ab 8 Jahren. <br>Kontakt für Rückfragen und zur Anmeldung: Anmeldung: johanna.minzer@sindelfingen.de oder Tel. 0703194716.
END:VEVENT
END:VCALENDAR
