BEGIN:VCALENDAR
PRODID:-//dvv-bw.de//dvv.Portalplattform//DE
VERSION:2.0
METHOD:PUBLISH
BEGIN:VEVENT
DTSTART:20260527T053000Z
DTEND:20260527T110000Z
DTSTAMP:20260426T002006Z
UID:523251805121-523251803755-1779832800000
SUMMARY:Mittwochsmarkt auf dem Elbenplatz
LOCATION:Elbenplatz / Unterer See
DESCRIPTION:Mittwochsmarkt auf dem Elbenplatz
CLASS:PUBLIC
X-ALT-DESC;FMTTYPE=text/html:Mittwochsmarkt auf dem Elbenplatz
END:VEVENT
END:VCALENDAR
